


BEGIN:VCALENDAR
VERSION:2.0
PRODID:-//Iowa Institute for Cooperatives - ECPv6.13.2.1//NONSGML v1.0//EN
CALSCALE:GREGORIAN
METHOD:PUBLISH
X-ORIGINAL-URL:https://iowainstitute.coop
X-WR-CALDESC:Events for Iowa Institute for Cooperatives
REFRESH-INTERVAL;VALUE=DURATION:PT1H
X-Robots-Tag:noindex
X-PUBLISHED-TTL:PT1H
BEGIN:VTIMEZONE
TZID:UTC
BEGIN:STANDARD
TZOFFSETFROM:+0000
TZOFFSETTO:+0000
TZNAME:UTC
DTSTART:20240101T000000
END:STANDARD
END:VTIMEZONE
BEGIN:VEVENT
DTSTART;TZID=UTC:20240820T100000
DTEND;TZID=UTC:20240820T160000
DTSTAMP:20260423T013434
CREATED:20240725T164728Z
LAST-MODIFIED:20240725T164838Z
UID:6491-1724148000-1724169600@iowainstitute.coop
SUMMARY:2024 Technology Workshop
DESCRIPTION:The Iowa Institute for Cooperatives and ACS are hosting a technology workshop on Artificial Intelligence. This interactive workshop will look at Microsoft’s AI platform\, Copilot\, and how it can be used to revolutionize the agricultural field. This workshop is open to all members of the Iowa Institute for Cooperatives and is crafted to suit all position types\, including beyond IT professionals. \n  \nThe full agenda and registration is available here.
URL:https://iowainstitute.coop/event/2024-technology-workshop/
LOCATION:IA
ATTACH;FMTTYPE=:
END:VEVENT
END:VCALENDAR