


BEGIN:VCALENDAR
VERSION:2.0
PRODID:-//Iowa Institute for Cooperatives - ECPv6.13.2.1//NONSGML v1.0//EN
CALSCALE:GREGORIAN
METHOD:PUBLISH
X-ORIGINAL-URL:https://iowainstitute.coop
X-WR-CALDESC:Events for Iowa Institute for Cooperatives
REFRESH-INTERVAL;VALUE=DURATION:PT1H
X-Robots-Tag:noindex
X-PUBLISHED-TTL:PT1H
BEGIN:VTIMEZONE
TZID:UTC
BEGIN:STANDARD
TZOFFSETFROM:+0000
TZOFFSETTO:+0000
TZNAME:UTC
DTSTART:20240101T000000
END:STANDARD
END:VTIMEZONE
BEGIN:VEVENT
DTSTART;TZID=UTC:20240201T130000
DTEND;TZID=UTC:20240202T130000
DTSTAMP:20260423T110954
CREATED:20231107T181449Z
LAST-MODIFIED:20231212T191754Z
UID:5600-1706792400-1706878800@iowainstitute.coop
SUMMARY:2024 Director Certification Program Phase I & II
DESCRIPTION:Phase I and II of IIC’s Director Certification Program (DCP) will be held in Cedar Falls on Thursday\, February 1st and Tuesday\, February 2nd. \nPhase I – to be held on Friday\, February 2nd looks at: \n\nThe cooperative organizational structure and historical perspective of cooperatives ending with an overview of Iowa’s cooperative code.\nLegal Responsibilities of Cooperative Director\nDirector Responsibilities & Functions\nManager/Director Teamwork and Separation of Duties\n\nPhase II – to be held on Thursday February 1st looks at: \n\nThe Board Management Team\nEstablishing a Direction for Your Cooperative\nDirector’s Role in Corporate Planning\nConstructively Handling Opportunities and Problems – Situational Analysis\n\nClick here for full agenda and registration information. 
URL:https://iowainstitute.coop/event/2024-director-certification-program-phase-i-ii/
LOCATION:IA
CATEGORIES:Education
ATTACH;FMTTYPE=:
END:VEVENT
BEGIN:VEVENT
DTSTART;TZID=UTC:20240206T080000
DTEND;TZID=UTC:20240206T170000
DTSTAMP:20260423T110954
CREATED:20231221T201705Z
LAST-MODIFIED:20240123T184006Z
UID:5704-1707206400-1707238800@iowainstitute.coop
SUMMARY:2024 Board Presidents Conference
DESCRIPTION:The morning session feature the following topics: \n\nImplementing Technology in Your Office – Commerce Bank\nSupply Chain and Driverless Trucks – CHS\, Inc.\nDirector Kraig Paulsen with the Iowa Department of Management\nIowa Soybean Association programs on conservation and water quality\n\nAfter\, lunch the board presidents hold an open forum where they raise questions and discuss topics that their board\nor cooperative is facing. We have experts in the room\, but often the best answers come from the other\nboard members in attendance. \nCheck back for full agenda and registration information.
URL:https://iowainstitute.coop/event/2024-board-presidents-conference/
LOCATION:Courtyard by Marriott\, 2405 SE Creekview Dr\, Ankeny\, IA\, 50021
ATTACH;FMTTYPE=:
END:VEVENT
BEGIN:VEVENT
DTSTART;TZID=UTC:20240207T073000
DTEND;TZID=UTC:20240207T090000
DTSTAMP:20260423T110954
CREATED:20231221T202452Z
LAST-MODIFIED:20231221T202607Z
UID:5708-1707291000-1707296400@iowainstitute.coop
SUMMARY:2024 Co-op Day at the Capitol
DESCRIPTION:Join us early Wednesday morning as we greet your local legislators as they begin their day at the Capitol. \nThis is a great opportunity meet your elected representatives and discuss issues that are important to your cooperatives. \nThis event is held in conjunction with IIC’s Board Presidents Conference. \nCheck back for full details and registration.
URL:https://iowainstitute.coop/event/2024-co-op-day-at-the-capitol/
LOCATION:The Iowa Capitol\, 1007 E Grand Ave\, Des Moines\, IA\, 50319
ATTACH;FMTTYPE=:
END:VEVENT
BEGIN:VEVENT
DTSTART;TZID=UTC:20240227T080000
DTEND;TZID=UTC:20240229T170000
DTSTAMP:20260423T110954
CREATED:20230920T190736Z
LAST-MODIFIED:20230920T190736Z
UID:5500-1709020800-1709226000@iowainstitute.coop
SUMMARY:Land O Lakes Annual Meeting - 2024
DESCRIPTION:
URL:https://iowainstitute.coop/event/land-o-lakes-annual-meeting-2024/
LOCATION:IA
ATTACH;FMTTYPE=:
END:VEVENT
BEGIN:VEVENT
DTSTART;TZID=UTC:20240229T080000
DTEND;TZID=UTC:20240301T170000
DTSTAMP:20260423T110954
CREATED:20230920T190936Z
LAST-MODIFIED:20230920T190936Z
UID:5503-1709193600-1709312400@iowainstitute.coop
SUMMARY:2024 CoBank Midwest Customer Meeting
DESCRIPTION:Hilton Omaha & CHI Health Convention Center\, Omaha\, Nebraska
URL:https://iowainstitute.coop/event/2024-cobank-midwest-customer-meeting/
LOCATION:IA
CATEGORIES:Industry|Meeting
ATTACH;FMTTYPE=:
END:VEVENT
END:VCALENDAR