


BEGIN:VCALENDAR
VERSION:2.0
PRODID:-//Iowa Institute for Cooperatives - ECPv6.13.2.1//NONSGML v1.0//EN
CALSCALE:GREGORIAN
METHOD:PUBLISH
X-WR-CALNAME:Iowa Institute for Cooperatives
X-ORIGINAL-URL:https://iowainstitute.coop
X-WR-CALDESC:Events for Iowa Institute for Cooperatives
REFRESH-INTERVAL;VALUE=DURATION:PT1H
X-Robots-Tag:noindex
X-PUBLISHED-TTL:PT1H
BEGIN:VTIMEZONE
TZID:UTC
BEGIN:STANDARD
TZOFFSETFROM:+0000
TZOFFSETTO:+0000
TZNAME:UTC
DTSTART:20230101T000000
END:STANDARD
END:VTIMEZONE
BEGIN:VEVENT
DTSTART;TZID=UTC:20231103T093000
DTEND;TZID=UTC:20231103T120000
DTSTAMP:20260423T161356
CREATED:20230808T152504Z
LAST-MODIFIED:20231102T132702Z
UID:5312-1699003800-1699012800@iowainstitute.coop
SUMMARY:2023 IIC Legislative Committee Meeting
DESCRIPTION:IIC legislative committee meets the first Friday of November to review current and proposed legislative policy resolutions to present to full membership at the IIC annual meeting.  All new policy resolutions must go through the legislative committee. Please contact Rebecca at the IIC office if you have questions on the policy resolution process.
URL:https://iowainstitute.coop/event/2023-iic-legislative-committee-meeting/
LOCATION:IIC Office\, 2515 University Blvd\, Ames\, IA\, 50010\, United States
ATTACH;FMTTYPE=:
ORGANIZER;CN="Rebecca Boyer":MAILTO:rboyer@iowainstitute.coop
END:VEVENT
BEGIN:VEVENT
DTSTART;TZID=UTC:20231116T120000
DTEND;TZID=UTC:20231117T130000
DTSTAMP:20260423T161356
CREATED:20230803T080735Z
LAST-MODIFIED:20231122T185620Z
UID:5228-1700136000-1700226000@iowainstitute.coop
SUMMARY:2023 COOP HUMAN RESOURCES WORKSHOP
DESCRIPTION:This Conference is designed to offer plenty of networking opportunities\, learn from speakers on relevant HR matters\, and includes a hands-on\nworkshop on The Art and Science of Influence. Furthermore\, we will enjoy a group dinner\, and\nnetworking at the Hotel Bar afterward (dinner is included in the registration fee). \nThank you to the 40 cooperative HR professionals for your attendance. \n 
URL:https://iowainstitute.coop/event/2023-coop-human-resources-workshop/
LOCATION:The Rewind Hotel\, 6075 Mills Civic Parkway\, West Des Moines\, Iowa 50266
ATTACH;FMTTYPE=:
END:VEVENT
BEGIN:VEVENT
DTSTART;TZID=UTC:20231121T083000
DTEND;TZID=UTC:20231121T160000
DTSTAMP:20260423T161356
CREATED:20230808T160303Z
LAST-MODIFIED:20231122T185426Z
UID:5320-1700555400-1700582400@iowainstitute.coop
SUMMARY:2023 IIC Annual Meeting
DESCRIPTION:The Iowa Institute for Cooperatives will hold their 73rd annual meeting on Tuesday\, November 21st at the Iowa State Center Sheman Building in Ames\, IA.  At the annual meeting we will: \n\nDiscuss\, vote on and set our legislative resolutions for the 2024 legislative session.\nNetwork and reconnect with industry leaders and peers.\nInduct Don Miller and Chuck Schafer into the Iowa Cooperative Hall of Fame.\nHear from industry experts in our afternoon breakout sessions.\nHear from keynote Ray Starling\, executive advisor with Aimpoint Research and author of Farmers versus Foodies\, A Look at the Outside Forces Forging the Future of Farming and Food. \n\nThanks to our members for a great event!
URL:https://iowainstitute.coop/event/2023-iic-annual-meeting/
LOCATION:Sheman Building at ISU\, 1805 Center Dr.\, Ames\, Iowa\, 50011\, United States
ATTACH;FMTTYPE=image/webp:https://iowainstitute.coop/wp-content/uploads/2023/08/Starling-Ray_3-4.jpg-240x300-1.webp
END:VEVENT
END:VCALENDAR