


BEGIN:VCALENDAR
VERSION:2.0
PRODID:-//Iowa Institute for Cooperatives - ECPv6.13.2.1//NONSGML v1.0//EN
CALSCALE:GREGORIAN
METHOD:PUBLISH
X-WR-CALNAME:Iowa Institute for Cooperatives
X-ORIGINAL-URL:https://iowainstitute.coop
X-WR-CALDESC:Events for Iowa Institute for Cooperatives
REFRESH-INTERVAL;VALUE=DURATION:PT1H
X-Robots-Tag:noindex
X-PUBLISHED-TTL:PT1H
BEGIN:VTIMEZONE
TZID:UTC
BEGIN:STANDARD
TZOFFSETFROM:+0000
TZOFFSETTO:+0000
TZNAME:UTC
DTSTART:20210101T000000
END:STANDARD
END:VTIMEZONE
BEGIN:VEVENT
DTSTART;TZID=UTC:20220112T160000
DTEND;TZID=UTC:20220113T053000
DTSTAMP:20260422T224934
CREATED:20230426T080036Z
LAST-MODIFIED:20230426T080036Z
UID:4445-1642003200-1642051800@iowainstitute.coop
SUMMARY:Peter Zeihan on Supply Chain
DESCRIPTION:The cooperative councils of South Dakota\, Nebraska\, Oklahoma\, Kansas and Iowa present Peter Zeihan’s insights on the supply chain issues of today.  Join us for a virtual presentation on January 12th from 10-noon. \n\nThank you to CoBank for your sponsorship of this event. \n  \n  \n 
URL:https://iowainstitute.coop/event/peter-zeihan-on-supply-chain/
END:VEVENT
BEGIN:VEVENT
DTSTART;TZID=UTC:20220111T213000
DTEND;TZID=UTC:20220111T233000
DTSTAMP:20260422T224934
CREATED:20230426T080036Z
LAST-MODIFIED:20230426T080036Z
UID:4455-1641936600-1641943800@iowainstitute.coop
SUMMARY:2022 Legislative Session Welcome Back Reception
DESCRIPTION:
URL:https://iowainstitute.coop/event/2022-legislative-session-welcome-back-reception/
END:VEVENT
BEGIN:VEVENT
DTSTART;VALUE=DATE:20211230
DTEND;VALUE=DATE:20220102
DTSTAMP:20260422T224934
CREATED:20230426T080036Z
LAST-MODIFIED:20230426T080036Z
UID:4454-1640844000-1641016799@iowainstitute.coop
SUMMARY:Office Closed - Happy New Year
DESCRIPTION:
URL:https://iowainstitute.coop/event/office-closed-happy-new-year/
END:VEVENT
BEGIN:VEVENT
DTSTART;VALUE=DATE:20211223
DTEND;VALUE=DATE:20211226
DTSTAMP:20260422T224934
CREATED:20230426T080036Z
LAST-MODIFIED:20230426T080036Z
UID:4453-1640239200-1640411999@iowainstitute.coop
SUMMARY:Office Closed
DESCRIPTION:Merry Christmas!
URL:https://iowainstitute.coop/event/office-closed-6/
END:VEVENT
BEGIN:VEVENT
DTSTART;VALUE=DATE:20211202
DTEND;VALUE=DATE:20211205
DTSTAMP:20260422T224934
CREATED:20230426T080036Z
LAST-MODIFIED:20230426T080036Z
UID:4441-1638424800-1638597599@iowainstitute.coop
SUMMARY:CHS Inc 2021 Annual Meeting
DESCRIPTION:
URL:https://iowainstitute.coop/event/chs-inc-2021-annual-meeting/
END:VEVENT
BEGIN:VEVENT
DTSTART;VALUE=DATE:20211202
DTEND;VALUE=DATE:20211205
DTSTAMP:20260422T224934
CREATED:20230426T080036Z
LAST-MODIFIED:20230426T080036Z
UID:4442-1638424800-1638597599@iowainstitute.coop
SUMMARY:IAEC 2021 Annual Meeting
DESCRIPTION:
URL:https://iowainstitute.coop/event/iaec-2021-annual-meeting/
CATEGORIES:Meeting
END:VEVENT
BEGIN:VEVENT
DTSTART;TZID=UTC:20211125T140000
DTEND;TZID=UTC:20211126T230000
DTSTAMP:20260422T224934
CREATED:20230426T080036Z
LAST-MODIFIED:20230426T080036Z
UID:4452-1637848800-1637967600@iowainstitute.coop
SUMMARY:Happy Thanksgiving - Office Closed
DESCRIPTION:
URL:https://iowainstitute.coop/event/happy-thanksgiving-office-closed/
END:VEVENT
BEGIN:VEVENT
DTSTART;TZID=UTC:20211123T150000
DTEND;TZID=UTC:20211123T223000
DTSTAMP:20260422T224934
CREATED:20230426T080036Z
LAST-MODIFIED:20230426T080036Z
UID:4439-1637679600-1637706600@iowainstitute.coop
SUMMARY:2021 IIC Annual Meeting
DESCRIPTION:The annual meeting of the members of the Iowa Institute for Cooperatives will be held on Tuesday\, November 23\, 2021.  We will review and vote on our legislative resolutions for the upcoming year\, we will celebrate the cooperative leaders at our Hall of Fame ceremony and we will hear from Keynote speaker ISU Athletic Director Jamie Pollard on leadership during crisis.  We have also planned the following break out sessions: 1) Transportation Liability Panel with ISU’s Dr. Bobby Martens and Coreen Sweeney with Nyemaster Goode 2) What the Census tells us about Iowa and its Impact on Legislative Districts\, Drake University Professor of Political Science Dr. Dennis Goldford 3) Update on African Swine Fever with IDAL’s State Veterinarian Dr. Jeff Kaisand and Deputy Secretary Julie Kenney  and 4) Economic Outlook with ISU’s Dr. Lee Schulz and Dr. Chad Hart. \n  \nThis event has passed. \n 
URL:https://iowainstitute.coop/event/2021-iic-annual-meeting/
END:VEVENT
BEGIN:VEVENT
DTSTART;TZID=UTC:20211105T140000
DTEND;TZID=UTC:20211105T170000
DTSTAMP:20260422T224934
CREATED:20230426T080036Z
LAST-MODIFIED:20230426T080036Z
UID:4440-1636120800-1636131600@iowainstitute.coop
SUMMARY:2021 Legislative Committee Meeting
DESCRIPTION:Annual meeting of IIC legislative committee to review current and proposed policy resolutions for the upcoming legislative session.  All new resolutions must be presented to the legislative committee prior to vote at annual meeting on November 23\, 2021.
URL:https://iowainstitute.coop/event/2021-legislative-committee-meeting/
END:VEVENT
BEGIN:VEVENT
DTSTART;VALUE=DATE:20210820
DTEND;VALUE=DATE:20210822
DTSTAMP:20260422T224934
CREATED:20230426T080034Z
LAST-MODIFIED:20230426T080034Z
UID:4436-1629435600-1629521999@iowainstitute.coop
SUMMARY:Iowa Cooperative Hall of Fame Application Due
DESCRIPTION:Hall of Fame applications are due in the IIC office by end of day on Friday\, August 20\, 2021. \nApplication period has closed.
URL:https://iowainstitute.coop/event/iowa-cooperative-hall-of-fame-application-due/
END:VEVENT
BEGIN:VEVENT
DTSTART;TZID=UTC:20210813T130000
DTEND;TZID=UTC:20210813T220000
DTSTAMP:20260422T224934
CREATED:20230426T080034Z
LAST-MODIFIED:20230426T080034Z
UID:4437-1628859600-1628892000@iowainstitute.coop
SUMMARY:IIC Scholarship Application Due
DESCRIPTION:IIC Scholarship application is due in the IIC office by end of the day\, August 14\, 2021. \nApplication period has closed. \n 
URL:https://iowainstitute.coop/event/iic-scholarship-application-due-2/
END:VEVENT
BEGIN:VEVENT
DTSTART;TZID=UTC:20210722T150000
DTEND;TZID=UTC:20210722T163000
DTSTAMP:20260422T224934
CREATED:20230426T080034Z
LAST-MODIFIED:20230426T080034Z
UID:4435-1626966000-1626971400@iowainstitute.coop
SUMMARY:Financial Statement Webinar - Statement of Cash Flows and Financial Ratios
DESCRIPTION:Click here for agenda and registration information.
URL:https://iowainstitute.coop/event/financial-statement-webinar-statement-of-cash-flows-and-financial-ratios/
END:VEVENT
BEGIN:VEVENT
DTSTART;TZID=UTC:20210720T150000
DTEND;TZID=UTC:20210720T163000
DTSTAMP:20260422T224934
CREATED:20230426T080034Z
LAST-MODIFIED:20230426T080034Z
UID:4434-1626793200-1626798600@iowainstitute.coop
SUMMARY:Financial Statement Webinar - Balance Sheet
DESCRIPTION:Click here for agenda and registration information.
URL:https://iowainstitute.coop/event/financial-statement-webinar-balance-sheet/
END:VEVENT
BEGIN:VEVENT
DTSTART;TZID=UTC:20210715T150000
DTEND;TZID=UTC:20210715T160000
DTSTAMP:20260422T224934
CREATED:20230426T080034Z
LAST-MODIFIED:20230426T080034Z
UID:4433-1626361200-1626364800@iowainstitute.coop
SUMMARY:Financial Statement Webinar - Income Statement
DESCRIPTION:Click here for agenda and registration information.
URL:https://iowainstitute.coop/event/financial-statement-webinar-income-statement/
END:VEVENT
BEGIN:VEVENT
DTSTART;TZID=UTC:20210713T140000
DTEND;TZID=UTC:20210713T210000
DTSTAMP:20260422T224934
CREATED:20230426T080034Z
LAST-MODIFIED:20230426T080034Z
UID:4430-1626184800-1626210000@iowainstitute.coop
SUMMARY:2021 Summer Workshop
DESCRIPTION:At the Summer Workshop\, we host a variety of speakers who address issues of current importance and trends that aide in the decision making at the local cooperative level. This program is intended for the cooperative board members and management staff. This year’s topic include: \n\nCarbon\nElectric Vehicles\nIowa Legislature Update\nSolar Power\nIowa Infrastructure\n\nClick here for informational letter\, agenda and registration form. \nClick here to register online. \n 
URL:https://iowainstitute.coop/event/2021-summer-workshop/
END:VEVENT
BEGIN:VEVENT
DTSTART;TZID=UTC:20210708T130000
DTEND;TZID=UTC:20210708T220000
DTSTAMP:20260422T224934
CREATED:20230426T080034Z
LAST-MODIFIED:20230426T080034Z
UID:4429-1625749200-1625781600@iowainstitute.coop
SUMMARY:2021 Summer Intern Day
DESCRIPTION:The goal of the day is to: \n\nFamiliarize your interns with what a cooperative is\nDiscuss why cooperatives matter\nDiscuss what makes cooperatives different from other business structures\nDiscuss why they should consider a cooperative as a career path\n\nThe day will include these four sessions: \n\nCooperative 101 – IIC Staff\nHow to evaluate a Job Offer – Mike Gaul ISU CALS Career Services\nTips to Get in the Door – Cooperative HR Panel\nHow Cooperatives Interact with Other Ag Groups\n\nClick here Cooperative Intern Day Letter\, Agenda and Registration Form \nClick here to register online.
URL:https://iowainstitute.coop/event/2021-summer-intern-day/
END:VEVENT
BEGIN:VEVENT
DTSTART;VALUE=DATE:20210705
DTEND;VALUE=DATE:20210707
DTSTAMP:20260422T224934
CREATED:20230426T080034Z
LAST-MODIFIED:20230426T080034Z
UID:4431-1625461200-1625547599@iowainstitute.coop
SUMMARY:Office Closed
DESCRIPTION:Happy 4th of July! \nBe safe! \n 
URL:https://iowainstitute.coop/event/office-closed-5/
END:VEVENT
BEGIN:VEVENT
DTSTART;TZID=UTC:20210611T140000
DTEND;TZID=UTC:20210611T213000
DTSTAMP:20260422T224934
CREATED:20230426T080034Z
LAST-MODIFIED:20230426T080034Z
UID:4432-1623420000-1623447000@iowainstitute.coop
SUMMARY:IIC Board Meeting
DESCRIPTION:
URL:https://iowainstitute.coop/event/iic-board-meeting-4/
END:VEVENT
BEGIN:VEVENT
DTSTART;VALUE=DATE:20210531
DTEND;VALUE=DATE:20210602
DTSTAMP:20260422T224934
CREATED:20230426T080034Z
LAST-MODIFIED:20230426T080034Z
UID:4428-1622437200-1622523599@iowainstitute.coop
SUMMARY:IIC Office Closed
DESCRIPTION:Memorial Day
URL:https://iowainstitute.coop/event/iic-office-closed-2/
END:VEVENT
BEGIN:VEVENT
DTSTART;TZID=UTC:20210505T150000
DTEND;TZID=UTC:20210505T160000
DTSTAMP:20260422T224934
CREATED:20230426T080034Z
LAST-MODIFIED:20230426T080034Z
UID:4426-1620226800-1620230400@iowainstitute.coop
SUMMARY:5 Keys to Master the Interview Process
DESCRIPTION:Hiring at any time during the year can be a challenge. It can be challenging to find applicants\, and when you do\, it’s frustrating to find out the person who aced the interview is a dud on the job. \nIn this live\, interactive session\, Erin and Kristen from People Spark will share 5 keys to the interview process. This webinar will focus on how to: \n\nSave time (and money) in the interview process\nAsk questions to learn how a candidate thinks and behaves before you hire\nInterpret answers to determine a good employee vs. who is just good at interviews\nAdjust your interview process to effectively interview virtually\n\nBy the end of the session\, you will have simple\, practical skills and tools to use in your interviewing process. \nThank you to Erin and Kristen for a great presentation.  This webinar will be posted in our library soon. \n  \n 
URL:https://iowainstitute.coop/event/5-keys-to-master-the-interview-process/
CATEGORIES:Education
END:VEVENT
BEGIN:VEVENT
DTSTART;TZID=UTC:20210422T160000
DTEND;TZID=UTC:20210422T170000
DTSTAMP:20260422T224934
CREATED:20230426T080034Z
LAST-MODIFIED:20230426T080034Z
UID:4427-1619107200-1619110800@iowainstitute.coop
SUMMARY:CHS Owners Forum
DESCRIPTION:Hear from the CHS Board\, get business and financial updates and gain insights on how CHS is creating connections to empower cooperative owners. \nClick here for additional information.
URL:https://iowainstitute.coop/event/chs-owners-forum/
END:VEVENT
BEGIN:VEVENT
DTSTART;TZID=UTC:20210330T180000
DTEND;TZID=UTC:20210330T190000
DTSTAMP:20260422T224934
CREATED:20230426T080031Z
LAST-MODIFIED:20230426T080031Z
UID:4415-1617127200-1617130800@iowainstitute.coop
SUMMARY:Human Capital Webinar Series - Executive Selection
DESCRIPTION:We are partnering with FCC Services and Cooperative Network on three part webinar series focused on human capital.  The second session will be held on Tuesday\, March 30\, 2021 focusing on Executive Selection.  The topics include: \n\nThe board’s role and responsibilities in securing the right CEO / GM\nOptions: Selection from outside vs. promotion from within\nGetting to know the individual\nManaging the selection decision process\nEnhancing a diverse leadership team\n\nThank you to our members for your participation. \nThis webinar is now available in our webinar library. \nClick here to register for the webinar library. \nThe Human Capital Webinar series cost is $25/session or $50 for all 3 sessions.
URL:https://iowainstitute.coop/event/human-capital-webinar-series-executive-selection/
END:VEVENT
BEGIN:VEVENT
DTSTART;TZID=UTC:20210318T140000
DTEND;TZID=UTC:20210318T171500
DTSTAMP:20260422T224934
CREATED:20230426T080029Z
LAST-MODIFIED:20230426T080029Z
UID:4391-1616076000-1616087700@iowainstitute.coop
SUMMARY:2021 CoBank Virtual Customer Meeting -- Central
DESCRIPTION:
URL:https://iowainstitute.coop/event/2021-cobank-virtual-customer-meeting-central/
CATEGORIES:Industry
END:VEVENT
BEGIN:VEVENT
DTSTART;TZID=UTC:20210316T150000
DTEND;TZID=UTC:20210316T160000
DTSTAMP:20260422T224934
CREATED:20230426T080034Z
LAST-MODIFIED:20230426T080034Z
UID:4425-1615906800-1615910400@iowainstitute.coop
SUMMARY:Risk Management Webinar Series - Cybersecurity Risk Exposure
DESCRIPTION:Mark Eich with CliftonLarsonAllen will discuss common sense steps to minimize your risk of a cyberattack. \nThank you to our members for your participation. \nThis webinar is now available in our webinar library. \nClick here to register for the webinar library. \nThe Risk Management Series cost is  $50/session or all three for $100.
URL:https://iowainstitute.coop/event/risk-management-webinar-series-cybersecurity-risk-exposure/
CATEGORIES:Education
END:VEVENT
BEGIN:VEVENT
DTSTART;TZID=UTC:20210309T160000
DTEND;TZID=UTC:20210309T170000
DTSTAMP:20260422T224934
CREATED:20230426T080034Z
LAST-MODIFIED:20230426T080034Z
UID:4424-1615305600-1615309200@iowainstitute.coop
SUMMARY:Risk Management Webinar Series - Securing Your Credit Risk and Managing Your Accounts Receivable
DESCRIPTION:Tom Slaughter and Steven Kinsella attorneys with Fredrikson & Byron will identify some best practices to mitigate credit risk and exposure on accounts receivable. \nThank you to our members for your participation. \nThis webinar is now available in our webinar library. \nClick here to register for the webinar library. \nThe Risk Management Series cost is  $50/session or all three for $100.
URL:https://iowainstitute.coop/event/risk-management-webinar-series-securing-your-credit-risk-and-managing-your-accounts-receivable/
END:VEVENT
BEGIN:VEVENT
DTSTART;TZID=UTC:20210304T150000
DTEND;TZID=UTC:20210304T220000
DTSTAMP:20260422T224934
CREATED:20230426T080034Z
LAST-MODIFIED:20230426T080034Z
UID:4418-1614870000-1614895200@iowainstitute.coop
SUMMARY:2021 Credit Conference
DESCRIPTION:IIC and the National Association of Credit Managers Heartland Affiliate will be working together again to host a joint Credit Conference.  This day will feature several speakers of interest in the morning followed by the NACM Credit Exchange in the afternoon. \n 
URL:https://iowainstitute.coop/event/2021-credit-conference/
END:VEVENT
BEGIN:VEVENT
DTSTART;TZID=UTC:20210302T190000
DTEND;TZID=UTC:20210302T200000
DTSTAMP:20260422T224934
CREATED:20230426T080031Z
LAST-MODIFIED:20230426T080031Z
UID:4414-1614711600-1614715200@iowainstitute.coop
SUMMARY:Human Capital Webinar Series - Succession Planning
DESCRIPTION:We are partnering with FCC Services and Cooperative Network on three part webinar series focused on human capital.  The second session will be held on Tuesday\, March 2\, 2021 focusing on Succession Planning.  The topics include: \n\nSuccession Management processes\n\nThe board’s role in CEO / GM Succession\nManagement’s key accountabilities\n\n\nExplore elements of effective succession planning\nAvoiding pitfalls\n\nThank you to our members for your participation. \nThis webinar is now available in our webinar library. \nClick here to register for the webinar library. \nThe Human Capital Webinar series cost is $25/session or $50 for all 3 sessions. \n  \n 
URL:https://iowainstitute.coop/event/human-capital-webinar-series-succession-planning/
END:VEVENT
BEGIN:VEVENT
DTSTART;TZID=UTC:20210302T160000
DTEND;TZID=UTC:20210302T170000
DTSTAMP:20260422T224934
CREATED:20230426T080034Z
LAST-MODIFIED:20230426T080034Z
UID:4423-1614700800-1614704400@iowainstitute.coop
SUMMARY:Risk Management Webinar Series - Grain Contracting Mitigation
DESCRIPTION:Jacob Bylund\, with Faegre Drinker in Des Monies will discuss standardized best practices to mitigate exposure on grain contracting. \nThank you to our members for your participation. \nThis webinar is now available in our webinar library. \nClick here to register for the webinar library. \nThis Risk Management Series cost is $50/session or all three for $100. \n 
URL:https://iowainstitute.coop/event/risk-management-webinar-series-grain-contracting-mitigation/
END:VEVENT
BEGIN:VEVENT
DTSTART;TZID=UTC:20210226T160000
DTEND;TZID=UTC:20210226T170000
DTSTAMP:20260422T224934
CREATED:20230426T080034Z
LAST-MODIFIED:20230426T080034Z
UID:4422-1614355200-1614358800@iowainstitute.coop
SUMMARY:Mid Managers Webinar Series - Session IV - Iowa OSHA
DESCRIPTION:Chris Downs with Iowa OSHA will join us for a discussion on the mission and responsibilities of Iowa OSHA\, common issues they address\, and what your cooperative should be doing to provide a safe work environment for your employees. \nThank you to our members for your participation. \nThis webinar is now available in our webinar library. \nClick here to register for the webinar library. \nMidManagers Webinar series cost is $35/session or $100 for all 4 sessions.
URL:https://iowainstitute.coop/event/mid-managers-webinar-series-session-iv-iowa-osha/
END:VEVENT
BEGIN:VEVENT
DTSTART;TZID=UTC:20210223T160000
DTEND;TZID=UTC:20210223T170000
DTSTAMP:20260422T224934
CREATED:20230426T080034Z
LAST-MODIFIED:20230426T080034Z
UID:4421-1614096000-1614099600@iowainstitute.coop
SUMMARY:Mid Managers Webinar Series - Session III - Department of Labor
DESCRIPTION:Melissa Wright with the Department of Labor will join us for a discussion on a wide range of topics including: overtime rules\, the impact of working from home\, independent contractor vs. employee regulations and new COVID programs.  Please join us for this overview of the rules and regulations regarding our most valued assets\, our employees. \nClick here for additional information on webinar series. \nThank you for your participation.  If you would like copies of the slides\, please contact the IIC office. \n  \n  \n 
URL:https://iowainstitute.coop/event/mid-managers-webinar-series-session-iii-department-of-labor/
END:VEVENT
END:VCALENDAR