


BEGIN:VCALENDAR
VERSION:2.0
PRODID:-//Iowa Institute for Cooperatives - ECPv6.13.2.1//NONSGML v1.0//EN
CALSCALE:GREGORIAN
METHOD:PUBLISH
X-WR-CALNAME:Iowa Institute for Cooperatives
X-ORIGINAL-URL:https://iowainstitute.coop
X-WR-CALDESC:Events for Iowa Institute for Cooperatives
REFRESH-INTERVAL;VALUE=DURATION:PT1H
X-Robots-Tag:noindex
X-PUBLISHED-TTL:PT1H
BEGIN:VTIMEZONE
TZID:UTC
BEGIN:STANDARD
TZOFFSETFROM:+0000
TZOFFSETTO:+0000
TZNAME:UTC
DTSTART:20180101T000000
END:STANDARD
END:VTIMEZONE
BEGIN:VEVENT
DTSTART;TZID=UTC:20180914T080000
DTEND;TZID=UTC:20180914T170000
DTSTAMP:20260423T061250
CREATED:20230426T080024Z
LAST-MODIFIED:20230426T080024Z
UID:4339-1536912000-1536944400@iowainstitute.coop
SUMMARY:IIC Board Meeting
DESCRIPTION:
URL:https://iowainstitute.coop/event/iic-board-meeting/
CATEGORIES:Meeting
END:VEVENT
BEGIN:VEVENT
DTSTART;TZID=UTC:20180913T080000
DTEND;TZID=UTC:20180913T170000
DTSTAMP:20260423T061250
CREATED:20230426T080024Z
LAST-MODIFIED:20230426T080024Z
UID:4340-1536825600-1536858000@iowainstitute.coop
SUMMARY:IIC Board Planning Session
DESCRIPTION:
URL:https://iowainstitute.coop/event/iic-board-planning-session/
CATEGORIES:Meeting
END:VEVENT
BEGIN:VEVENT
DTSTART;VALUE=DATE:20180903
DTEND;VALUE=DATE:20180904
DTSTAMP:20260423T061250
CREATED:20230426T080021Z
LAST-MODIFIED:20230426T080021Z
UID:4318-1535932800-1536019199@iowainstitute.coop
SUMMARY:Office Closed
DESCRIPTION:
URL:https://iowainstitute.coop/event/office-closed/
END:VEVENT
BEGIN:VEVENT
DTSTART;TZID=UTC:20180831T110000
DTEND;TZID=UTC:20180831T130000
DTSTAMP:20260423T061250
CREATED:20230426T080024Z
LAST-MODIFIED:20230426T080024Z
UID:4351-1535713200-1535720400@iowainstitute.coop
SUMMARY:Meet the Candidate - Marion
DESCRIPTION:We will be hosting our eastern Iowa Meet the Candidates event at Linn County REC\, Marion. We have invited your elected representatives and candidates for legislative and statewide offices to join us. This event gives you the opportunity to meet those who will be representing you in Des Moines and help us share the importance of cooperatives in their district and in the state of Iowa. We have found that building these relationships prior to session is beneficial to our mission of effectively representing our members at the Capitol. Please join us on Friday\, August 31st for lunch at the Linn County REC building in Marion.
URL:https://iowainstitute.coop/event/meet-the-candidate-marion/
CATEGORIES:Meeting
END:VEVENT
BEGIN:VEVENT
DTSTART;TZID=UTC:20180830T180000
DTEND;TZID=UTC:20180830T200000
DTSTAMP:20260423T061250
CREATED:20230426T080024Z
LAST-MODIFIED:20230426T080024Z
UID:4350-1535652000-1535659200@iowainstitute.coop
SUMMARY:Meet the Candidate - New Hampton
DESCRIPTION:We will be hosting our northeast Iowa Meet the Candidates event at The Pinicon in New Hampton. We have invited your elected representatives and candidates for legislative and statewide offices to join us. This event gives you the opportunity to meet those who will be representing you in Des Moines and help us share the importance of cooperatives in their district and in the state of Iowa. We have found that building these relationships prior to session is beneficial to our mission of effectively representing our members at the Capitol. Please join us on Thursday evening\, August 30th for a buffet dinner of roast beef and chicken at The Pinicon.
URL:https://iowainstitute.coop/event/meet-the-candidate-new-hampton/
CATEGORIES:Meeting
END:VEVENT
BEGIN:VEVENT
DTSTART;TZID=UTC:20180829T110000
DTEND;TZID=UTC:20180829T130000
DTSTAMP:20260423T061250
CREATED:20230426T080024Z
LAST-MODIFIED:20230426T080024Z
UID:4349-1535540400-1535547600@iowainstitute.coop
SUMMARY:Meet the Candidates - Spencer
DESCRIPTION:We will be hosting our northwest Iowa Meet the Candidates event at the Clay County Events Center. We have invited your elected representatives and candidates for legislative and statewide offices to join us. This event gives you the opportunity to meet those who will be representing you in Des Moines and help us share the importance of cooperatives in their district and in the state of Iowa. We have found that building these relationships prior to session is beneficial to our mission of effectively representing our members at the Capitol. Please join us on Wednesday\, August 29th for a barbeque lunch of hamburgers and hot dogs.
URL:https://iowainstitute.coop/event/meet-the-candidates-spencer/
END:VEVENT
BEGIN:VEVENT
DTSTART;TZID=UTC:20180828T080000
DTEND;TZID=UTC:20180830T170000
DTSTAMP:20260423T061250
CREATED:20230426T080021Z
LAST-MODIFIED:20230426T080021Z
UID:4336-1535443200-1535648400@iowainstitute.coop
SUMMARY:2018 Farm Progress Show
DESCRIPTION:Boone\, IA
URL:https://iowainstitute.coop/event/2018-farm-progress-show/
CATEGORIES:Industry
END:VEVENT
BEGIN:VEVENT
DTSTART;TZID=UTC:20180824T080000
DTEND;TZID=UTC:20180824T170000
DTSTAMP:20260423T061250
CREATED:20230426T080024Z
LAST-MODIFIED:20230426T080024Z
UID:4354-1535097600-1535130000@iowainstitute.coop
SUMMARY:Hall of Fame Application Due
DESCRIPTION:Please return completed Iowa Cooperative Hall of Fame Application to the IIC office on or before August 24\, 2018. \nClick here for letter and application packet.
URL:https://iowainstitute.coop/event/hall-of-fame-application-due/
CATEGORIES:Industry
END:VEVENT
BEGIN:VEVENT
DTSTART;TZID=UTC:20180823T110000
DTEND;TZID=UTC:20180823T110000
DTSTAMP:20260423T061250
CREATED:20230426T080024Z
LAST-MODIFIED:20230426T080024Z
UID:4348-1535022000-1535022000@iowainstitute.coop
SUMMARY:Meet the Candidate - Clear Lake
DESCRIPTION:We will be hosting our north central Iowa Meet the Candidates event at Clear Lake Yacht Club in Clear Lake. We have invited your elected representatives and candidates for legislative and statewide offices to join us. This event gives you the opportunity to meet those who will be representing you in Des Moines and help us share the importance of cooperatives in their district and in the state of Iowa. We have found that building these relationships prior to session is beneficial to our mission of effectively representing our members at the Capitol. Please join us on Thursday\, August 23rd for lunch at the Yacht Club.
URL:https://iowainstitute.coop/event/meet-the-candidate-clear-lake/
CATEGORIES:Meeting
END:VEVENT
BEGIN:VEVENT
DTSTART;TZID=UTC:20180822T180000
DTEND;TZID=UTC:20180822T200000
DTSTAMP:20260423T061250
CREATED:20230426T080024Z
LAST-MODIFIED:20230426T080024Z
UID:4347-1534960800-1534968000@iowainstitute.coop
SUMMARY:Meet the Candidate - Denison
DESCRIPTION:We will be hosting our western  Iowa Meet the Candidates event at Cronks in Denison. We have invited your elected representatives and candidates for legislative and statewide offices to join us. This event gives you the opportunity to meet those who will be representing you in Des Moines and help us share the importance of cooperatives in their district and in the state of Iowa. We have found that building these relationships prior to session is beneficial to our mission of effectively representing our members at the Capitol. Please join us on Wednesday evening\, August 22nd for dinner of ham\, chicken\, roast beef and salad bar.
URL:https://iowainstitute.coop/event/meet-the-candidate-denison/
CATEGORIES:Meeting
END:VEVENT
BEGIN:VEVENT
DTSTART;TZID=UTC:20180818T090000
DTEND;TZID=UTC:20180818T110000
DTSTAMP:20260423T061250
CREATED:20230426T080024Z
LAST-MODIFIED:20230426T080024Z
UID:4346-1534582800-1534590000@iowainstitute.coop
SUMMARY:Meet the Candidate-Des Moines
DESCRIPTION:We will be hosting our central Iowa Meet the Candidates event at The Machine Shed in Urbandale.  We have invited your elected representatives and candidates for legislative and statewide offices to join us.  This event gives you the opportunity to meet those who will be representing you in Des Moines and help us share the importance of cooperatives in their district and in the state of Iowa.  We have found that building these relationships prior to session is beneficial to our mission of effectively representing our members at the Capitol.   Please join us on Saturday\, August 18th for breakfast banquet with eggs\, sausage links\, cheddar hash brown\, biscuits and gravy\, fruit and drinks (juice\, water and coffee). \n 
URL:https://iowainstitute.coop/event/meet-the-candidate-des-moines/
CATEGORIES:Meeting
END:VEVENT
BEGIN:VEVENT
DTSTART;TZID=UTC:20180810T080000
DTEND;TZID=UTC:20180810T170000
DTSTAMP:20260423T061250
CREATED:20230426T080024Z
LAST-MODIFIED:20230426T080024Z
UID:4342-1533888000-1533920400@iowainstitute.coop
SUMMARY:IIC Scholarship Application Due
DESCRIPTION:
URL:https://iowainstitute.coop/event/iic-scholarship-application-due/
END:VEVENT
END:VCALENDAR