


BEGIN:VCALENDAR
VERSION:2.0
PRODID:-//Iowa Institute for Cooperatives - ECPv6.13.2.1//NONSGML v1.0//EN
CALSCALE:GREGORIAN
METHOD:PUBLISH
X-WR-CALNAME:Iowa Institute for Cooperatives
X-ORIGINAL-URL:https://iowainstitute.coop
X-WR-CALDESC:Events for Iowa Institute for Cooperatives
REFRESH-INTERVAL;VALUE=DURATION:PT1H
X-Robots-Tag:noindex
X-PUBLISHED-TTL:PT1H
BEGIN:VTIMEZONE
TZID:UTC
BEGIN:STANDARD
TZOFFSETFROM:+0000
TZOFFSETTO:+0000
TZNAME:UTC
DTSTART:20190101T000000
END:STANDARD
END:VTIMEZONE
BEGIN:VEVENT
DTSTART;TZID=UTC:20200827T183000
DTEND;TZID=UTC:20200827T183000
DTSTAMP:20260422T225315
CREATED:20230426T080031Z
LAST-MODIFIED:20230426T080031Z
UID:4408-1598553000-1598553000@iowainstitute.coop
SUMMARY:Getting Back to Work and Taking Leave in Coronavirus Era Workshop
DESCRIPTION:IIC members\, please join us on August 27th for a webinar with Mary Funk of Nyemaster Goode.  Mary will provide a refresher on the Families First Coronavirus Response Act(FFCRA)\, Emergency Paid Sick Leave (EPSL) and EFLMA along with helping to answer questions as you bring employees back to work or as employees may need to take leave in a coronavirus era. \nThanks to Mary Funk for her excellent presentation and to our members for your participation.
URL:https://iowainstitute.coop/event/getting-back-to-work-and-taking-leave-in-coronavirus-era-workshop/
CATEGORIES:Education
END:VEVENT
BEGIN:VEVENT
DTSTART;TZID=UTC:20200820T164500
DTEND;TZID=UTC:20200820T180000
DTSTAMP:20260422T225315
CREATED:20230426T080031Z
LAST-MODIFIED:20230426T080031Z
UID:4407-1597941900-1597946400@iowainstitute.coop
SUMMARY:Meet the Candidates - SW Iowa
DESCRIPTION:Every other year\, in conjunction with the election cycle\, we host several Meet the Candidate events. These are designed to give you a chance to meet and get to know candidates and legislators and gives us an opportunity to share what is important to cooperatives and communicate those priorities with current and future legislators. \nGiven the current environment with COVID-19\, we will hold these meetings virtually instead of in-person. We believe we can connect with candidates and legislators virtually and make sure all participants feel safe. \n  \n 
URL:https://iowainstitute.coop/event/meet-the-candidates-sw-iowa/
END:VEVENT
BEGIN:VEVENT
DTSTART;TZID=UTC:20200819T164500
DTEND;TZID=UTC:20200819T180000
DTSTAMP:20260422T225315
CREATED:20230426T080031Z
LAST-MODIFIED:20230426T080031Z
UID:4406-1597855500-1597860000@iowainstitute.coop
SUMMARY:Meet the Candidate - South Central Iowa
DESCRIPTION:Every other year\, in conjunction with the election cycle\, we host several Meet the Candidate events. These are designed to give you a chance to meet and get to know candidates and legislators and gives us an opportunity to share what is important to cooperatives and communicate those priorities with current and future legislators. \nGiven the current environment with COVID-19\, we will hold these meetings virtually instead of in-person. We believe we can connect with candidates and legislators virtually and make sure all participants feel safe. \n 
URL:https://iowainstitute.coop/event/meet-the-candidate-south-central-iowa/
END:VEVENT
BEGIN:VEVENT
DTSTART;TZID=UTC:20200818T164500
DTEND;TZID=UTC:20200818T180000
DTSTAMP:20260422T225315
CREATED:20230426T080031Z
LAST-MODIFIED:20230426T080031Z
UID:4405-1597769100-1597773600@iowainstitute.coop
SUMMARY:Meet the Candidates - SE Iowa
DESCRIPTION:Every other year\, in conjunction with the election cycle\, we host several Meet the Candidate events. These are designed to give you a chance to meet and get to know candidates and legislators and gives us an opportunity to share what is important to cooperatives and communicate those priorities with current and future legislators. \nGiven the current environment with COVID-19\, we will hold these meetings virtually instead of in-person. We believe we can connect with candidates and legislators virtually and make sure all participants feel safe. \n 
URL:https://iowainstitute.coop/event/meet-the-candidates-se-iowa/
END:VEVENT
BEGIN:VEVENT
DTSTART;VALUE=DATE:20200814
DTEND;VALUE=DATE:20200816
DTSTAMP:20260422T225315
CREATED:20230426T080029Z
LAST-MODIFIED:20230426T080029Z
UID:4394-1597381200-1597467599@iowainstitute.coop
SUMMARY:2020 IIC Scholarship Application Deadline
DESCRIPTION:The Iowa Institute for Cooperatives will be awarding at least 8 – $2000 scholarships this summer. The awards will be given to students who have had an internship or work experience program at a cooperative who is a member of the Iowa Institute for Cooperatives. These scholarships are open to all IIC member cooperatives regardless of industry sector or location. \nApplication deadline has passed.  Winners will be announced mid-September 2020.
URL:https://iowainstitute.coop/event/2020-iic-scholarship-application-deadline/
END:VEVENT
BEGIN:VEVENT
DTSTART;TZID=UTC:20200813T164500
DTEND;TZID=UTC:20200813T180000
DTSTAMP:20260422T225315
CREATED:20230426T080031Z
LAST-MODIFIED:20230426T080031Z
UID:4404-1597337100-1597341600@iowainstitute.coop
SUMMARY:Meet the Candidates - NE Iowa
DESCRIPTION:Every other year\, in conjunction with the election cycle\, we host several Meet the Candidate events. These are designed to give you a chance to meet and get to know candidates and legislators and gives us an opportunity to share what is important to cooperatives and communicate those priorities with current and future legislators. \nGiven the current environment with COVID-19\, we will hold these meetings virtually instead of in-person. We believe we can connect with candidates and legislators virtually and make sure all participants feel safe. \n 
URL:https://iowainstitute.coop/event/meet-the-candidates-ne-iowa/
END:VEVENT
BEGIN:VEVENT
DTSTART;TZID=UTC:20200812T164500
DTEND;TZID=UTC:20200812T180000
DTSTAMP:20260422T225315
CREATED:20230426T080031Z
LAST-MODIFIED:20230426T080031Z
UID:4403-1597250700-1597255200@iowainstitute.coop
SUMMARY:Meet the Candidates - North Central Iowa
DESCRIPTION:Every other year\, in conjunction with the election cycle\, we host several Meet the Candidate events. These are designed to give you a chance to meet and get to know candidates and legislators and gives us an opportunity to share what is important to cooperatives and communicate those priorities with current and future legislators. \nGiven the current environment with COVID-19\, we will hold these meetings virtually instead of in-person. We believe we can connect with candidates and legislators virtually and make sure all participants feel safe. \n 
URL:https://iowainstitute.coop/event/meet-the-candidates-north-central-iowa/
END:VEVENT
BEGIN:VEVENT
DTSTART;TZID=UTC:20200811T164500
DTEND;TZID=UTC:20200811T180000
DTSTAMP:20260422T225315
CREATED:20230426T080031Z
LAST-MODIFIED:20230426T080031Z
UID:4402-1597164300-1597168800@iowainstitute.coop
SUMMARY:Meet the Candidates NW Iowa
DESCRIPTION:Every other year\, in conjunction with the election cycle\, we host several Meet the Candidate events. These are designed to give you a chance to meet and get to know candidates and legislators and gives us an opportunity to share what is important to cooperatives and communicate those priorities with current and future legislators. \nGiven the current environment with COVID-19\, we will hold these meetings virtually instead of in-person. We believe we can connect with candidates and legislators virtually and make sure all participants feel safe. \n 
URL:https://iowainstitute.coop/event/meet-the-candidates-nw-iowa/
END:VEVENT
BEGIN:VEVENT
DTSTART;VALUE=DATE:20200703
DTEND;VALUE=DATE:20200705
DTSTAMP:20260422T225315
CREATED:20230426T080031Z
LAST-MODIFIED:20230426T080031Z
UID:4401-1593752400-1593838799@iowainstitute.coop
SUMMARY:IIC Office Closed
DESCRIPTION:
URL:https://iowainstitute.coop/event/iic-office-closed/
END:VEVENT
BEGIN:VEVENT
DTSTART;TZID=UTC:20200616T123000
DTEND;TZID=UTC:20200616T133000
DTSTAMP:20260422T225315
CREATED:20230426T080031Z
LAST-MODIFIED:20230426T080031Z
UID:4398-1592310600-1592314200@iowainstitute.coop
SUMMARY:Summer 2020 Cooperative Course - Value of a Cooperative
DESCRIPTION:SESSION 4: Value of a Cooperative \nExperiences & Perspectives from Patron Board Members\nLIVE Tuesday\, June 16: 7:30am\nPanelists: Rick Brand\, Steve Henry & Dan Schurr\, moderated by Stacey Webster \nWe will hear from Rick\, Steve\, and Dan about their experiences as board members\, helping cooperatives make decisions and why they find value through membership. \nRick Brand\, Board President Land O’Lakes and former FC Board Member \nSteve Henry\, Board Vice President Farm Credit Services of America and former Heart of Iowa Board Member \nDan Schurr\, Board President CHS and former River Valley Cooperative Board Member \nClick here to watch video.
URL:https://iowainstitute.coop/event/summer-2020-cooperative-course-value-of-a-cooperative/
END:VEVENT
BEGIN:VEVENT
DTSTART;TZID=UTC:20200612T150000
DTEND;TZID=UTC:20200612T200000
DTSTAMP:20260422T225315
CREATED:20230426T080031Z
LAST-MODIFIED:20230426T080031Z
UID:4399-1591974000-1591992000@iowainstitute.coop
SUMMARY:IIC Board Meeting June 12\, 2020
DESCRIPTION:
URL:https://iowainstitute.coop/event/iic-board-meeting-june-12-2020/
CATEGORIES:Meeting
END:VEVENT
BEGIN:VEVENT
DTSTART;TZID=UTC:20200609T133000
DTEND;TZID=UTC:20200609T143000
DTSTAMP:20260422T225315
CREATED:20230426T080029Z
LAST-MODIFIED:20230426T080029Z
UID:4397-1591709400-1591713000@iowainstitute.coop
SUMMARY:Summer 2020 Cooperative Course - Financial Literacy
DESCRIPTION:SESSION 3: Financial Literacy\nLIVE Tuesday\, June 9: 8:30am\nPresented by Abbie Cross & Jordyn Henry\nIn Session 3\, Abbie and Jordyn will discuss the credit union mission and managing your relationship to money so you can make informed decisions for long term financial stability. \nAbbie Cross is a Branch Manager  with Financial Plus Credit Union. \nJordyn Henry is a Branch Manager at Financial Plus Credit Union\, and has been in the Financial Industry since 2011. \nClick here to watch video
URL:https://iowainstitute.coop/event/summer-2020-cooperative-course-financial-literacy/
END:VEVENT
BEGIN:VEVENT
DTSTART;TZID=UTC:20200602T133000
DTEND;TZID=UTC:20200602T143000
DTSTAMP:20260422T225315
CREATED:20230426T080029Z
LAST-MODIFIED:20230426T080029Z
UID:4396-1591104600-1591108200@iowainstitute.coop
SUMMARY:Summer 2020 Cooperative Course - Career Perspectives
DESCRIPTION:SESSION 2: Career Perspectives: Advice & Insights\nLIVE Tuesday\, June 2: 8:30am\nPanelists: Dr. Keri Jacobs\, Hollee McCormick & Mike Schon \nDr. Jacobs\, Hollee\, and Mike will provide insight for interns and new employees about career experiences\, opportunities\, and the growth potential at your local cooperatives.  \nDr. Keri L. Jacobs is associate professor and extension economist in the Department of Economics at ISU and the Iowa Institute for Cooperatives Endowed Economics Professor \nHollee McCormick is a lifelong resident of rural Iowa and is the Executive Vice President and General Manager of Allamakee-Clayton Electric Cooperative. \nMike Schon is General Manager at Archer Co-op in Archer\, IA \nClick her to view recording of Session 2
URL:https://iowainstitute.coop/event/summer-2020-cooperative-course-career-perspectives/
END:VEVENT
BEGIN:VEVENT
DTSTART;TZID=UTC:20200526T123000
DTEND;TZID=UTC:20200526T133000
DTSTAMP:20260422T225315
CREATED:20230426T080029Z
LAST-MODIFIED:20230426T080029Z
UID:4395-1590496200-1590499800@iowainstitute.coop
SUMMARY:Summer 2020 Cooperative Course - Foundations of Cooperatives
DESCRIPTION:SESSION 1: Foundations of Cooperatives\nLIVE Tuesday\, May 26: 7:30am\nPresented by Dr. Keri Jacobs \nCan cooperatives continue to be relevant in an era of business conglomerates\, acquisitions\, and direct-to-consumer commerce? We will explore the features of cooperative businesses that make this business model a workhorse in agriculture and the best kept secret in capitalist economies. \nDr. Keri L. Jacobs is associate professor and extension economist in the Department of Economics at ISU and the Iowa Institute for Cooperatives Endowed Economics Professor. In her role at ISU\, she is an undergraduate educator\, researcher\, and extension specialist with a focus on cooperatives. Her research focuses on the financial and equity conditions of agricultural cooperatives\, agribusiness consolidation and farm level production decisions under uncertainty. \n Click here to view recording of Session 1 \nClick here to view Dr. Jacobs slides
URL:https://iowainstitute.coop/event/summer-2020-cooperative-course-foundations-of-cooperatives/
CATEGORIES:Education|Meeting
END:VEVENT
BEGIN:VEVENT
DTSTART;TZID=UTC:20200408T183000
DTEND;TZID=UTC:20200408T220000
DTSTAMP:20260422T225315
CREATED:20230426T080029Z
LAST-MODIFIED:20230426T080029Z
UID:4389-1586370600-1586383200@iowainstitute.coop
SUMMARY:Webinar-COVID 19 Legislation for Small Employers
DESCRIPTION:A Review of COVID-19 Legislation for Small Employers\nKristine Tidgren\, will present an overview of recent legislation offering relief to small employers\, including the Families First Coronavirus Response Act\, and various provisions within the CARES Act. Specifically she will address family/medical leave and sick leave requirements\, including the associated credits\, as well as the employee retention credit\, the paycheck protection program\, and payroll tax deferral. A goal of the webinar will be to educate attendees on which options may be available and in what combination. \nThis event has occurred the slides and recording are available on our COVID 19 page. \n  \n 
URL:https://iowainstitute.coop/event/webinar-covid-19-legislation-for-small-employers/
END:VEVENT
BEGIN:VEVENT
DTSTART;TZID=UTC:20200310T140000
DTEND;TZID=UTC:20200310T210000
DTSTAMP:20260422T225315
CREATED:20230426T080029Z
LAST-MODIFIED:20230426T080029Z
UID:4383-1583848800-1583874000@iowainstitute.coop
SUMMARY:Advanced Director Training - Financial Statement Notes
DESCRIPTION:The goal of the Advanced Director Training programs offered by the IIC is to extend the knowledge and understanding of issues cooperative board of directors will address within their responsibilities on the board. We spend a full day on a single topic/issue and bring in experts to explain\, clarify and answer your questions. \nThis year we are offering Advanced Director Training- Financial Statement Notes  and other topics of importance within your audit that will help you become more familiar with this information source.\nDennis Gardiner\, Managing Partner\, Gardiner + Company and Stacey Webster\, Director of Co-op Development for IIC\, will be your speakers for the day.\nThe program will include:\n• Review of the different kinds of financial statement reports\n• Review of different audit opinions\n• Review of financial statement notes\n• The role and duties of audit committee\n• Impact of your investments on financial statements\n• Various audit letters\nDennis and Stacey have planned table top and group exercises with real world examples to illustrate the topics and encourage discussion. \nClick here for complete description\, agenda and registration information.
URL:https://iowainstitute.coop/event/advanced-director-training-financial-statement-notes/
CATEGORIES:Education|Meeting
END:VEVENT
BEGIN:VEVENT
DTSTART;VALUE=DATE:20200305
DTEND;VALUE=DATE:20200307
DTSTAMP:20260422T225315
CREATED:20230426T080029Z
LAST-MODIFIED:20230426T080029Z
UID:4386-1583388000-1583474399@iowainstitute.coop
SUMMARY:2020 Credit Conference
DESCRIPTION:We are partnering with the National Association of Credit Mangers (NACM) Heartland Affiliate  for this year’s Ag Credit Conference. \nThis event has occurred.  Thank you to our members for your continued support of our programs.
URL:https://iowainstitute.coop/event/2020-credit-conference/
CATEGORIES:Education|Meeting
END:VEVENT
BEGIN:VEVENT
DTSTART;TZID=UTC:20200304T130000
DTEND;TZID=UTC:20200304T153000
DTSTAMP:20260422T225315
CREATED:20230426T080026Z
LAST-MODIFIED:20230426T080026Z
UID:4371-1583326800-1583335800@iowainstitute.coop
SUMMARY:Co-op Day at the Capitol
DESCRIPTION:
URL:https://iowainstitute.coop/event/co-op-day-at-the-capitol-2/
CATEGORIES:Industry|Meeting
END:VEVENT
BEGIN:VEVENT
DTSTART;TZID=UTC:20200303T150000
DTEND;TZID=UTC:20200303T220000
DTSTAMP:20260422T225315
CREATED:20230426T080026Z
LAST-MODIFIED:20230426T080026Z
UID:4370-1583247600-1583272800@iowainstitute.coop
SUMMARY:Board Presidents Conference
DESCRIPTION:Please join us for the Board Presidents Conference.  This year’s agenda includes a political update from Dave Price\, how to deal with social media from Lauri Freking with Wixted and Company and the ever popular president’s open forum. \nClick here for full agenda and registration information.
URL:https://iowainstitute.coop/event/board-presidents-conference/
CATEGORIES:Education|Meeting
END:VEVENT
BEGIN:VEVENT
DTSTART;VALUE=DATE:20200226
DTEND;VALUE=DATE:20200229
DTSTAMP:20260422T225315
CREATED:20230426T080026Z
LAST-MODIFIED:20230426T080026Z
UID:4369-1582696800-1582869599@iowainstitute.coop
SUMMARY:2020 Land O'Lakes Annual Meeting
DESCRIPTION:
URL:https://iowainstitute.coop/event/2020-land-olakes-annual-meeting/
CATEGORIES:Industry|Meeting
END:VEVENT
BEGIN:VEVENT
DTSTART;VALUE=DATE:20200220
DTEND;VALUE=DATE:20200223
DTSTAMP:20260422T225315
CREATED:20230426T080026Z
LAST-MODIFIED:20230426T080026Z
UID:4368-1582178400-1582351199@iowainstitute.coop
SUMMARY:2020 CoBank Annual Member Meeting - Omaha
DESCRIPTION:
URL:https://iowainstitute.coop/event/2020-cobank-annual-member-meeting-omaha/
END:VEVENT
BEGIN:VEVENT
DTSTART;VALUE=DATE:20200211
DTEND;VALUE=DATE:20200215
DTSTAMP:20260422T225315
CREATED:20230426T080026Z
LAST-MODIFIED:20230426T080026Z
UID:4367-1581400800-1581659999@iowainstitute.coop
SUMMARY:2020 NCFC Annual Meeting
DESCRIPTION:
URL:https://iowainstitute.coop/event/2020-ncfc-annual-meeting/
END:VEVENT
BEGIN:VEVENT
DTSTART;TZID=UTC:20200123T190000
DTEND;TZID=UTC:20200124T200000
DTSTAMP:20260422T225315
CREATED:20230426T080026Z
LAST-MODIFIED:20230426T080026Z
UID:4375-1579806000-1579896000@iowainstitute.coop
SUMMARY:2020 DCP Phase 3 & 4
DESCRIPTION:Thank you to the 26 participants in this year’s DCP program.  Thirteen directors completed this program and were presented with certificates of recognition. \n 
URL:https://iowainstitute.coop/event/2020-dcp-phase-3-4/
END:VEVENT
BEGIN:VEVENT
DTSTART;TZID=UTC:20200121T190000
DTEND;TZID=UTC:20200122T200000
DTSTAMP:20260422T225315
CREATED:20230426T080026Z
LAST-MODIFIED:20230426T080026Z
UID:4374-1579633200-1579723200@iowainstitute.coop
SUMMARY:2020 DCP Phase 1 & 2
DESCRIPTION:Thank you to the 26 participants in this year’s DCP program.  Thirteen directors completed this program and were presented with certificates of recognition.
URL:https://iowainstitute.coop/event/2020-dcp-phase-1-2/
CATEGORIES:Education|Meeting
END:VEVENT
BEGIN:VEVENT
DTSTART;VALUE=DATE:20200116
DTEND;VALUE=DATE:20200119
DTSTAMP:20260422T225315
CREATED:20230426T080026Z
LAST-MODIFIED:20230426T080026Z
UID:4362-1579154400-1579327199@iowainstitute.coop
SUMMARY:AGP 2019 Annual Meeting
DESCRIPTION:
URL:https://iowainstitute.coop/event/agp-2019-annual-meeting/
CATEGORIES:Industry|Meeting
END:VEVENT
BEGIN:VEVENT
DTSTART;TZID=UTC:20200114T230000
DTEND;TZID=UTC:20200115T020000
DTSTAMP:20260422T225315
CREATED:20230426T080026Z
LAST-MODIFIED:20230426T080026Z
UID:4366-1579042800-1579053600@iowainstitute.coop
SUMMARY:2020 Legislative Welcome Back Reception
DESCRIPTION:This year’s reception will be held at a new location– The Downtown Des Moines Embassy Suites at 1010 E. Locust St. \n \n 
URL:https://iowainstitute.coop/event/2020-legislative-welcome-back-reception/
CATEGORIES:Industry|Meeting
END:VEVENT
BEGIN:VEVENT
DTSTART;TZID=UTC:20200109T150000
DTEND;TZID=UTC:20200109T230000
DTSTAMP:20260422T225315
CREATED:20230426T080026Z
LAST-MODIFIED:20230426T080026Z
UID:4377-1578582000-1578610800@iowainstitute.coop
SUMMARY:2020 Winter Workshop - Cedar Falls
DESCRIPTION:This annual program addresses issues of current importance to our cooperative members.  It is intended for cooperative directors and management staff involved in the formulation of your cooperative’s strategy.  This year’s agenda includes: \n\nDr. Dennis Todey with the USDA Midwest Climate Hub will discuss changing weather patterns.\nTroy Upah\, CEO of Ag Partners\, will share what Ag Partners learned from being hacked last summer.\nDr. David Brown\, ISU Behavioral Specialist\, will share programs available through ISU extension to help deal with stress on the farm.\nGary Lass\, President of SOLAR FX\, will discuss the process of evaluating and economics of a solar powered facility.\nFarm Credit Services of America will share trends they are seeing that may help you as you plan credit policies for next year.\n\nThis program has occurred.  Thank you to the speakers and our participating members for making this a successful Winter Workshop.
URL:https://iowainstitute.coop/event/2020-winter-workshop-cedar-falls/
CATEGORIES:Education|Meeting
END:VEVENT
BEGIN:VEVENT
DTSTART;TZID=UTC:20200108T150000
DTEND;TZID=UTC:20200108T230000
DTSTAMP:20260422T225315
CREATED:20230426T080026Z
LAST-MODIFIED:20230426T080026Z
UID:4376-1578495600-1578524400@iowainstitute.coop
SUMMARY:2020 Winter Workshop Storm Lake
DESCRIPTION:This annual program addresses issues of current importance to our cooperative members. It is intended for cooperative directors and management staff involved in the formulation of your cooperative’s strategy. This year’s agenda includes: \n\nDr. Dennis Todey with the USDA Midwest Climate Hub will discuss changing weather patterns.\nTroy Upah\, CEO of Ag Partners\, will share what Ag Partners learned from being hacked last summer.\nDr. David Brown\, ISU Behavioral Specialist\, will share programs available through ISU extension to help deal with stress on the farm.\nGary Lass\, President of SOLAR FX\, will discuss the process of evaluating and economics of a solar powered facility.\nFarm Credit Services of America will share trends they are seeing that may help you as you plan credit policies for next year.\n\nThis program has occurred. Thank you to the speakers and our participating members for making this a successful Winter Workshop.
URL:https://iowainstitute.coop/event/2020-winter-workshop-storm-lake/
CATEGORIES:Education|Meeting
END:VEVENT
BEGIN:VEVENT
DTSTART;VALUE=DATE:20191231
DTEND;VALUE=DATE:20200103
DTSTAMP:20260422T225315
CREATED:20230426T080021Z
LAST-MODIFIED:20230426T080021Z
UID:4330-1577772000-1577944799@iowainstitute.coop
SUMMARY:Office Closed
DESCRIPTION:Happy New Year!
URL:https://iowainstitute.coop/event/office-closed-4/
END:VEVENT
BEGIN:VEVENT
DTSTART;TZID=UTC:20191224T140000
DTEND;TZID=UTC:20191226T000000
DTSTAMP:20260422T225315
CREATED:20230426T080021Z
LAST-MODIFIED:20230426T080021Z
UID:4322-1577196000-1577318400@iowainstitute.coop
SUMMARY:Office Closed
DESCRIPTION:
URL:https://iowainstitute.coop/event/office-closed-3/
END:VEVENT
END:VCALENDAR