


BEGIN:VCALENDAR
VERSION:2.0
PRODID:-//Iowa Institute for Cooperatives - ECPv6.13.2.1//NONSGML v1.0//EN
CALSCALE:GREGORIAN
METHOD:PUBLISH
X-ORIGINAL-URL:https://iowainstitute.coop
X-WR-CALDESC:Events for Iowa Institute for Cooperatives
REFRESH-INTERVAL;VALUE=DURATION:PT1H
X-Robots-Tag:noindex
X-PUBLISHED-TTL:PT1H
BEGIN:VTIMEZONE
TZID:UTC
BEGIN:STANDARD
TZOFFSETFROM:+0000
TZOFFSETTO:+0000
TZNAME:UTC
DTSTART:20240101T000000
END:STANDARD
END:VTIMEZONE
BEGIN:VEVENT
DTSTART;TZID=UTC:20241113T130000
DTEND;TZID=UTC:20241114T120000
DTSTAMP:20260422T223322
CREATED:20240916T143757Z
LAST-MODIFIED:20240919T145224Z
UID:6611-1731502800-1731585600@iowainstitute.coop
SUMMARY:2024 Cooperative Accounting Workshop
DESCRIPTION:The 2024 Cooperative Accounting Workshop will be held November 13-14 at the Gateway Hotel in Ames. The full agenda is outlined in the attached agenda. This conference is open to our member cooperatives and covers a range of timely topics over a two day period. \nTo register online\, please click here. To access the room block\, please click here. \n 
URL:https://iowainstitute.coop/event/2024-cooperative-accounting-workshop/
LOCATION:Gateway Hotel and Conference Center\, 2100 Green Hills Drive\, Ames\, IA\, 50014
ATTACH;FMTTYPE=:
END:VEVENT
BEGIN:VEVENT
DTSTART;TZID=UTC:20241119T130000
DTEND;TZID=UTC:20241120T120000
DTSTAMP:20260422T223322
CREATED:20240916T141620Z
LAST-MODIFIED:20241023T180819Z
UID:6608-1732021200-1732104000@iowainstitute.coop
SUMMARY:2024 Human Resources Conference
DESCRIPTION:Join us for the Human Resources Conference on November 19 and 20 at the Gateway Hotel in Ames. This engaging 2-day seminar includes a variety of hot topics\, a panel discussion and a table topics session amongst HR peers. Our full agenda is linked here and includes information on how to register and how to take advantage of our hotel room block\, which is only available for booking through October 29. Registration to attend the conference is due by November 15.
URL:https://iowainstitute.coop/event/hr-conference/
LOCATION:Gateway Hotel and Conference Center\, 2100 Green Hills Drive\, Ames\, IA\, 50014
ATTACH;FMTTYPE=:
END:VEVENT
BEGIN:VEVENT
DTSTART;VALUE=DATE:20241126
DTEND;VALUE=DATE:20241127
DTSTAMP:20260422T223322
CREATED:20240916T144006Z
LAST-MODIFIED:20241015T132431Z
UID:6613-1732579200-1732665599@iowainstitute.coop
SUMMARY:2024 Annual Meeting
DESCRIPTION:Join us for the 2024 Annual Meeting at the Scheman Building in Ames\, IA on Nov. 26\, 2024. This year\, we welcome Mike Lombardi as the key note speaker. Mike Lombardi is a top leadership keynote speaker and football analyst. Our agenda also includes sessions from industry experts on timely topics\, an induction of the 2024 Hall of Fame recipients\, and a chance to meet the incoming executive director to the Iowa Institute for Cooperatives\, Dr. Bobby Martens. \nTo view the full program\, please click here. To register online please click here\, or complete the registration pdf located in the full program. \n 
URL:https://iowainstitute.coop/event/2024-annual-meeting/
LOCATION:Sheman Building at ISU\, 1805 Center Dr.\, Ames\, Iowa\, 50011\, United States
ATTACH;FMTTYPE=:
END:VEVENT
BEGIN:VEVENT
DTSTART;TZID=UTC:20250114T153000
DTEND;TZID=UTC:20250114T173000
DTSTAMP:20260422T223322
CREATED:20250103T192731Z
LAST-MODIFIED:20250103T192731Z
UID:7450-1736868600-1736875800@iowainstitute.coop
SUMMARY:2025 Legislative Welcome Back Reception
DESCRIPTION:You are invited to attend our legislative Welcome Back Reception on January 14\, 2025 at the Embassy Suites in Des Moines! \nFor more information and how to RSVP\, click this link.
URL:https://iowainstitute.coop/event/2025-legislative-welcome-back-reception/
LOCATION:Embassy Suites\, 101 E Locust Street\, Des Moines\, IA\, 50309
ATTACH;FMTTYPE=:
END:VEVENT
BEGIN:VEVENT
DTSTART;TZID=UTC:20250127T100000
DTEND;TZID=UTC:20250128T143000
DTSTAMP:20260422T223322
CREATED:20250102T185942Z
LAST-MODIFIED:20250121T153254Z
UID:7433-1737972000-1738074600@iowainstitute.coop
SUMMARY:2025 Director's Certification Program (DCP)
DESCRIPTION:Join us for the 2025 Director’s Certification Program January 27-28 in Ames\, IA. \nOur DCP program has been reformatted into a two day workshop that serves as a foundational course. This will serve as a pre-requisite to our newly developed Advanced Directors Program\, with more details available on our website. \nFor full event and registration details click here. \n 
URL:https://iowainstitute.coop/event/2025-directors-certification-program-dcp/
LOCATION:Gateway Hotel and Conference Center\, 2100 Green Hills Drive\, Ames\, IA\, 50014
ATTACH;FMTTYPE=:
END:VEVENT
BEGIN:VEVENT
DTSTART;TZID=UTC:20250310T093000
DTEND;TZID=UTC:20250311T153000
DTSTAMP:20260422T223322
CREATED:20250121T152801Z
LAST-MODIFIED:20250227T162849Z
UID:7544-1741599000-1741707000@iowainstitute.coop
SUMMARY:Advanced Directors Program
DESCRIPTION:Announcing our new Advanced Directors Program! \nADP will be held in Ames from March 10-11 and has a limited number of seats available. Our registration deadline is March 4\, or until meeting capacity has been reached. \nFor more information and to register\, please read our announcement flyer here.
URL:https://iowainstitute.coop/event/advanced-directors-program/
LOCATION:Gateway Hotel and Conference Center\, 2100 Green Hills Drive\, Ames\, IA\, 50014
ATTACH;FMTTYPE=:
END:VEVENT
BEGIN:VEVENT
DTSTART;TZID=UTC:20250527T083000
DTEND;TZID=UTC:20250527T153000
DTSTAMP:20260422T223322
CREATED:20250411T230252Z
LAST-MODIFIED:20250411T230252Z
UID:10962-1748334600-1748359800@iowainstitute.coop
SUMMARY:Intern Co-op Day
DESCRIPTION:Join us for Intern Co-op Day on May 27\, 2025! To view the full agenda\, click here. \nRegistration can be submitted here.
URL:https://iowainstitute.coop/event/intern-co-op-day/
LOCATION:Fareway Conference Center at the Cobblestone Inn and Suites\, Boone\, IA\, 1900 Lakewood Dr\, Boone\, IA\, 50010\, United States
ATTACH;FMTTYPE=:
END:VEVENT
BEGIN:VEVENT
DTSTART;VALUE=DATE:20250728
DTEND;VALUE=DATE:20250729
DTSTAMP:20260422T223322
CREATED:20250429T192206Z
LAST-MODIFIED:20250429T192206Z
UID:11614-1753660800-1753747199@iowainstitute.coop
SUMMARY:2025 NextGen Managers Program
DESCRIPTION:We’re excited to introduce a new program called the NextGen Managers Program. This cohort program is designed to develop the next generation of leaders within cooperatives. Aimed at mid-level management\, it focuses on strategic thinking\, communication\, and problem-solving through interactive workshops and real-world applications. \nClick here for more information on the program\, including lodging and registration information. \nThis series is delivered over 4 sessions: July 28-29\, 2025; January 5\, 2026; February 3\, 2026; March 2-3\, 2026 \nRegistration is due July 11\, 2025. With only a small number of spots available and a maximum of three participants per cooperative\, we encourage you to register as soon as possible to ensure your team’s place.  \n 
URL:https://iowainstitute.coop/event/2025-nextgen-managers-program/
LOCATION:IA
ATTACH;FMTTYPE=:
END:VEVENT
BEGIN:VEVENT
DTSTART;TZID=UTC:20250804T113000
DTEND;TZID=UTC:20250805T123000
DTSTAMP:20260422T223322
CREATED:20250605T011438Z
LAST-MODIFIED:20250605T011507Z
UID:12628-1754307000-1754397000@iowainstitute.coop
SUMMARY:2025 IT Innovation Summit
DESCRIPTION:Register today and take advantage of our early bird registration through July 4! This year’s session will include topics on cyber emergency response planning/recovery\, AI ethics\, on-site vs cloud storage\, and more. There will also be lots of opportunities for networking and hearing from panel experts. The full agenda is available here. \nClick here to register.
URL:https://iowainstitute.coop/event/2025-it-innovation-summit/
LOCATION:Des Moines
ATTACH;FMTTYPE=:
END:VEVENT
BEGIN:VEVENT
DTSTART;TZID=UTC:20250903T090000
DTEND;TZID=UTC:20250903T100000
DTSTAMP:20260422T223322
CREATED:20250724T192524Z
LAST-MODIFIED:20250724T192524Z
UID:14931-1756890000-1756893600@iowainstitute.coop
SUMMARY:2025 Copilot Virtual Workshop
DESCRIPTION:Join us for the 2025 Copilot Workshop\, held virtually over Teams every Wednesday in September (3\, 10\, 17\, 24) from 9:00 AM to 10:00 AM. This immersive program is designed to introduce participants to the capabilities of Copilot\, Microsoft’s integrated AI tool. \nYou can find more information on the program\, including how to register at this link.
URL:https://iowainstitute.coop/event/2025-copilot-virtual-workshop/
LOCATION:Microsoft Teams
ATTACH;FMTTYPE=:
END:VEVENT
BEGIN:VEVENT
DTSTART;VALUE=DATE:20251104
DTEND;VALUE=DATE:20251106
DTSTAMP:20260422T223322
CREATED:20250926T163731Z
LAST-MODIFIED:20251031T152402Z
UID:16627-1762214400-1762387199@iowainstitute.coop
SUMMARY:2025 Human Resources Conference
DESCRIPTION:The 2025  Human Resources Conference has been announced! Join us November 4-5 at the Ag Innovation Lab (in the ISU Research Park) in Ames\, IA for two days of co-operative focused Human Resources education and networking. \nClick this link for more information on the agenda. \nRegistration is now closed. Please call our office to check availability.
URL:https://iowainstitute.coop/event/2025-human-resources-conference/
LOCATION:Digital Ag Innovation Lab\, 3800 University Blvd\, Ames\, IA\, 50010
ATTACH;FMTTYPE=:
END:VEVENT
BEGIN:VEVENT
DTSTART;VALUE=DATE:20251125
DTEND;VALUE=DATE:20251126
DTSTAMP:20260422T223322
CREATED:20250926T164258Z
LAST-MODIFIED:20251121T215415Z
UID:16630-1764028800-1764115199@iowainstitute.coop
SUMMARY:2025 Annual Meeting
DESCRIPTION:Date:\nTuesday\, November 25\, 2025 \nLocation:\nThe 2025 Annual Meeting will be in a new location this year! Please join us in Ankeny\, IA at the FFA Enrichment Center. \nFFA Enrichment Center \n1055 SW Prairie Trail Pkwy \nAnkeny\, IA 50023 \n\nJoin us!\nJoin us for a day of connection\, learning\, and shared purpose. The meeting features member-focused discussions\, presentations on common challenges\, and opportunities to engage with cooperative peers. Our keynote speaker\, Jeff Lanza\, is a former FBI Special Agent with a background in investigating organized crime. He is an author\, has appeared in a Netflix documentary and has delivered lectures at Princeton and Harvard Universities. His keynote will focus on business ethics where he’ll share strategies to help leaders recognize early warning signs\, foster a culture of accountability\, and lead with long-term ethical vision. \nAgenda:\nClick here for the program flyer. \nRegistration:\nRegistration is now closed. \n  \n 
URL:https://iowainstitute.coop/event/2025-annual-meeting/
LOCATION:FFA Enrichment Center\, 1055 SW Prairie Trail Pkwy\, Ankeny\, IA\, 50023
ATTACH;FMTTYPE=image/jpeg:https://iowainstitute.coop/wp-content/uploads/2025/09/Annual-mtg-website.jpg
END:VEVENT
BEGIN:VEVENT
DTSTART;VALUE=DATE:20260115
DTEND;VALUE=DATE:20260117
DTSTAMP:20260422T223322
CREATED:20251016T155903Z
LAST-MODIFIED:20251217T165250Z
UID:17125-1768435200-1768607999@iowainstitute.coop
SUMMARY:Director Certification Program (DCP) 2026
DESCRIPTION:Date:\nJanuary 15-16\, 2026 \nLocation:\nDigital Ag Innovation Center \n3700 University Blvd. \nAmes\, IA \n\nJoin us!\nThe Director Certification Program (DCP) is a two-day training for cooperative board directors\, focusing on cooperative foundations\, governance\, strategic direction\, and financial acumen\, with sessions led by experts from the Iowa Institute for Cooperatives and partners. Completion of DCP is required before attending the Advanced Director Program. \nAgenda:\nClick here for the program flyer. \nRegistration:\nRegistration is $350 per person. \nRegistration is needed by January 7.  A check must be mailed in separately to the Iowa Institute for Cooperatives\, 2515 University Blvd Ste 104\, Ames IA 500105 \nClick here to register. \n  \n 
URL:https://iowainstitute.coop/event/director-certification-program-dcp/
LOCATION:IA
CATEGORIES:Education,Meeting
ATTACH;FMTTYPE=image/png:https://iowainstitute.coop/wp-content/uploads/2025/12/DCP-2026-Website-banner.png
END:VEVENT
BEGIN:VEVENT
DTSTART;VALUE=DATE:20260126
DTEND;VALUE=DATE:20260128
DTSTAMP:20260422T223322
CREATED:20251016T160441Z
LAST-MODIFIED:20260116T141931Z
UID:17127-1769385600-1769558399@iowainstitute.coop
SUMMARY:Policy and Advocacy Summit
DESCRIPTION:Date:\nJanuary 26-27\, 2026 \nLocation:\nEmbassy Suites \n101 E Locust St \nDes Moines\, IA \n  \n\nJoin us!\nJoin us to explore key issues like property taxes and crop protection\, engage with lobbyists and legislators\, and learn how advocacy shapes policy. Network with peers and gain hands-on experience to amplify the voice of cooperatives and drive meaningful legislative change. This session is designed for general managers\, board members\, legislative committee members\, grassroots contacts\, and those interested in cooperative policy. \nAgenda:\nHere is the link to the latest meeting information. \nRegistration:\nRegistration is now closed. \nPayment:\nCost is $235/person \nPlease remit checks to : \nIowa Institute for Cooperatives \n2515 University Blvd Ste 104 \nAmes IA\, 50010 \n  \n  \n 
URL:https://iowainstitute.coop/event/policy-and-advocacy-summit/
LOCATION:IA
CATEGORIES:Education,Meeting
ATTACH;FMTTYPE=image/png:https://iowainstitute.coop/wp-content/uploads/2025/12/PAS-Flyer-Website-1.png
END:VEVENT
BEGIN:VEVENT
DTSTART;VALUE=DATE:20260226
DTEND;VALUE=DATE:20260228
DTSTAMP:20260422T223322
CREATED:20251016T160540Z
LAST-MODIFIED:20260219T154654Z
UID:17130-1772064000-1772236799@iowainstitute.coop
SUMMARY:Advanced Directors Program (ADP) 2026
DESCRIPTION:Event Date:\nFebruary 26-27\, 2026 \nLocation:\nDigital Ag Innovation Center \n3700 University Blvd. \nAmes\, IA \n\nJoin us!\nThe Advanced Directors Program (ADP) is a two-day workshop for directors to strengthen boardroom leadership and cooperative management skills through expert-led sessions. Completion of the Director Certification Program (DCP) is required before attending the Advanced Directors Program. \nAgenda:\nClick here for the full agenda. \nRegistration:\nRegistration is now closed. \nLodging:\nA block of rooms is available for booking at the Courtyard by Marriott Ames through January 26\, after which\, attendees can still reserve rooms at the hotel\, but availability will be first‑come\, first‑served. Dinner on the first night will be held at Dublin Bay\, which is within walking distance of the hotel. Please see the agenda for more details including a booking link. \n 
URL:https://iowainstitute.coop/event/advanced-director-program-adp/
LOCATION:Digital Ag Innovation Lab\, 3800 University Blvd\, Ames\, IA\, 50010
CATEGORIES:Education,Meeting
ATTACH;FMTTYPE=image/png:https://iowainstitute.coop/wp-content/uploads/2025/10/2026-Advanced-Director-Program-ADP-Banner.png
END:VEVENT
BEGIN:VEVENT
DTSTART;TZID=UTC:20260602T090000
DTEND;TZID=UTC:20260602T153000
DTSTAMP:20260422T223322
CREATED:20260417T180732Z
LAST-MODIFIED:20260417T182049Z
UID:20683-1780390800-1780414200@iowainstitute.coop
SUMMARY:2026 Co-op Intern Day
DESCRIPTION:Date:\nJune 2\, 2026 \nLocation:\nFareway Conference Center at the Cobblestone Inn & Suites \n1900 Lakewood Drive \nBoone\, IA \n\nJoin Us!\nCo-op Intern Day brings interns together for a one‑day experience focused on understanding how cooperatives work\, building professional skills\, and connecting with others across Iowa’s cooperative community. \nAgenda:\nClick here for the program flyer. \nRegistration:\nThe registration fee is $175 per intern for groups of one to four. The fee is reduced to $150 per intern for groups of five or more from the same co-op. \nRegistration is required by May 22.  A check must be mailed in separately to the Iowa Institute for Cooperatives\, 2515 University Blvd Ste 104\, Ames IA 500105 \nClick here to register online. \n 
URL:https://iowainstitute.coop/event/20683/
LOCATION:Fareway Conference Center at the Cobblestone Inn and Suites\, Boone\, IA\, 1900 Lakewood Dr\, Boone\, IA\, 50010\, United States
CATEGORIES:Education
ATTACH;FMTTYPE=:
END:VEVENT
BEGIN:VEVENT
DTSTART;VALUE=DATE:20260727
DTEND;VALUE=DATE:20260728
DTSTAMP:20260422T223322
CREATED:20260108T191320Z
LAST-MODIFIED:20260420T150431Z
UID:18782-1785110400-1785196799@iowainstitute.coop
SUMMARY:NextGen 2026-2027
DESCRIPTION:Program Dates:\nNextGen is a one program cohort\, delivered in 3 Sessions \nSession 1: July 27-28\, 2026 \nSession 2: December 9-10\, 2026 \nSession 4: March 1-2\, 2027 \nLocation:\nThe 2026–27 NextGen program is headed to Northwest Iowa. Join us in Sheldon for a leadership development experience tailored for emerging talent. \nCrossroads Pavilion – Event Center\n301 34th Avenue\nSheldon\, Iowa 51201 \n\nJoin us!\nThe NextGen Managers Program is designed to develop future leaders within cooperatives by providing hands-on experience in strategic thinking\, communication\, and advanced problem-solving through interactive workshops and collaborative projects. The program emphasizes ethical leadership\, innovation\, and collaboration\, aiming to strengthen both individual capabilities and the cooperative’s foundation for future challenges. \nAgenda:\nClick here to view the latest agenda. \nRegistration:\nRegistration is now open! Register by May 31 to receive the early rate of $3\,250 per person. After May 31\, the standard rate of $3\,500 applies\, with registration closing June 30\, 2026. \nA check must be mailed in separately prior to the program start. Please remit payment to the Iowa Institute for Cooperatives\, 2515 University Blvd Ste 104\, Ames IA 500105 \nClick here to register online.
URL:https://iowainstitute.coop/event/nextgen-2026-2027/
LOCATION:Crossroads Pavillion Center\, 301 34th Ave\, Sheldon\, IA\, 51201\, United States
ATTACH;FMTTYPE=:
END:VEVENT
BEGIN:VEVENT
DTSTART;VALUE=DATE:20260826
DTEND;VALUE=DATE:20260828
DTSTAMP:20260422T223322
CREATED:20260102T143640Z
LAST-MODIFIED:20260102T143640Z
UID:18535-1787702400-1787875199@iowainstitute.coop
SUMMARY:2026 Annual Meeting
DESCRIPTION:Date:\nAugust 26-27\, 2026 \nLocation:\nFFA Enrichment Center \n1055 SW Prairie Trail Pkwy \nAnkeny\, IA 50023 \n\nSave the Date!\nCheck back for more information on our 2026 Annual Meeting. \n  \n  \n 
URL:https://iowainstitute.coop/event/2026-annual-meeting/
LOCATION:FFA Enrichment Center\, 1055 SW Prairie Trail Pkwy\, Ankeny\, IA\, 50023
ATTACH;FMTTYPE=:
END:VEVENT
END:VCALENDAR