


BEGIN:VCALENDAR
VERSION:2.0
PRODID:-//Iowa Institute for Cooperatives - ECPv6.13.2.1//NONSGML v1.0//EN
CALSCALE:GREGORIAN
METHOD:PUBLISH
X-ORIGINAL-URL:https://iowainstitute.coop
X-WR-CALDESC:Events for Iowa Institute for Cooperatives
REFRESH-INTERVAL;VALUE=DURATION:PT1H
X-Robots-Tag:noindex
X-PUBLISHED-TTL:PT1H
BEGIN:VTIMEZONE
TZID:UTC
BEGIN:STANDARD
TZOFFSETFROM:+0000
TZOFFSETTO:+0000
TZNAME:UTC
DTSTART:20180101T000000
END:STANDARD
END:VTIMEZONE
BEGIN:VEVENT
DTSTART;TZID=UTC:20210318T140000
DTEND;TZID=UTC:20210318T171500
DTSTAMP:20260422T100532
CREATED:20230426T080029Z
LAST-MODIFIED:20230426T080029Z
UID:4391-1616076000-1616087700@iowainstitute.coop
SUMMARY:2021 CoBank Virtual Customer Meeting -- Central
DESCRIPTION:
URL:https://iowainstitute.coop/event/2021-cobank-virtual-customer-meeting-central/
CATEGORIES:Industry
END:VEVENT
BEGIN:VEVENT
DTSTART;TZID=UTC:20180828T080000
DTEND;TZID=UTC:20180830T170000
DTSTAMP:20260422T100532
CREATED:20230426T080021Z
LAST-MODIFIED:20230426T080021Z
UID:4336-1535443200-1535648400@iowainstitute.coop
SUMMARY:2018 Farm Progress Show
DESCRIPTION:Boone\, IA
URL:https://iowainstitute.coop/event/2018-farm-progress-show/
CATEGORIES:Industry
END:VEVENT
BEGIN:VEVENT
DTSTART;TZID=UTC:20180824T080000
DTEND;TZID=UTC:20180824T170000
DTSTAMP:20260422T100532
CREATED:20230426T080024Z
LAST-MODIFIED:20230426T080024Z
UID:4354-1535097600-1535130000@iowainstitute.coop
SUMMARY:Hall of Fame Application Due
DESCRIPTION:Please return completed Iowa Cooperative Hall of Fame Application to the IIC office on or before August 24\, 2018. \nClick here for letter and application packet.
URL:https://iowainstitute.coop/event/hall-of-fame-application-due/
CATEGORIES:Industry
END:VEVENT
END:VCALENDAR