


BEGIN:VCALENDAR
VERSION:2.0
PRODID:-//Iowa Institute for Cooperatives - ECPv6.13.2.1//NONSGML v1.0//EN
CALSCALE:GREGORIAN
METHOD:PUBLISH
X-WR-CALNAME:Iowa Institute for Cooperatives
X-ORIGINAL-URL:https://iowainstitute.coop
X-WR-CALDESC:Events for Iowa Institute for Cooperatives
REFRESH-INTERVAL;VALUE=DURATION:PT1H
X-Robots-Tag:noindex
X-PUBLISHED-TTL:PT1H
BEGIN:VTIMEZONE
TZID:UTC
BEGIN:STANDARD
TZOFFSETFROM:+0000
TZOFFSETTO:+0000
TZNAME:UTC
DTSTART:20180101T000000
END:STANDARD
END:VTIMEZONE
BEGIN:VEVENT
DTSTART;TZID=UTC:20231205T170000
DTEND;TZID=UTC:20231206T183000
DTSTAMP:20260422T001259
CREATED:20230918T205902Z
LAST-MODIFIED:20230918T210001Z
UID:5494-1701795600-1701887400@iowainstitute.coop
SUMMARY:2023 Farmers Cooperative Conference
DESCRIPTION:December 5-6\, 2023\nMinneapolis\, Minnesota\nMark your calendars! The 26th Annual Farmer Cooperatives Conference will be in Minneapolis\, MN\, December 5-6\, 2023. The Farmer Cooperatives Conference will highlight the latest strategic thinking on current cooperative issues and trends. Network and learn from your fellow agricultural cooperative peers. This event features content that applies across the agricultural cooperative community\, often featuring cooperative leaders sharing their insights and strategies for success.
URL:https://iowainstitute.coop/event/2023-farmers-cooperative-conference/
CATEGORIES:Education|Industry|Meeting
ATTACH;FMTTYPE=:
END:VEVENT
BEGIN:VEVENT
DTSTART;TZID=UTC:20210120T160000
DTEND;TZID=UTC:20210120T170000
DTSTAMP:20260422T001259
CREATED:20230426T080031Z
LAST-MODIFIED:20230426T080031Z
UID:4416-1611158400-1611162000@iowainstitute.coop
SUMMARY:CFO/Controller Webinar Series - Session IV
DESCRIPTION:Start out your new year with an opportunity to have in depth discussion with Angie Olsonawski\, Senior Vice President and Corporate Treasurer of CHS and also earn some CPE. We will spend time discussing equity and equity redemption and Angie will also discuss the CHS capital process. We will round out our time learning how the CHS Finance teams have adapted their processes and procedures and how they are managing risk in a work from home environment. \nThank you to our members for your participation. \nThis webinar is now available in our webinar library. \nClick here to register for the webinar library. \nThe CFO Conference Series cost is $30/session or $100 for all four. \n 
URL:https://iowainstitute.coop/event/cfo-controller-webinar-series-session-iv/
CATEGORIES:Education|Industry|Meeting
END:VEVENT
BEGIN:VEVENT
DTSTART;TZID=UTC:20191126T140000
DTEND;TZID=UTC:20191126T220000
DTSTAMP:20260422T001259
CREATED:20230426T080026Z
LAST-MODIFIED:20230426T080026Z
UID:4361-1574776800-1574805600@iowainstitute.coop
SUMMARY:2019 IIC Annual Meeting
DESCRIPTION:This year’s annual meeting will be held on Tuesday\, November 26th at the Scheman Continuing Education Building at the Iowa State Center in Ames\, IA.  Please join us as we set our legislative policy and priorities for the upcoming legislative session\, honor cooperative leaders and hear about issues impacting cooperatives in Iowa.  Our keynote speaker is Dr. Richard Deming\, the medical director of the Mercy Cancer Center in Des Moines.  He is the founder of Above + Beyond Cancer\, an organization dedicated to elevating the lives of those touched by cancer. He will share the inspirational pilgrimages his patients have made to Mount Everest\, Mount Kilimanjaro and Machu Picchu. \nClick here for complete agenda \nThis program has occurred.  Thank you to the sponsors and participating members for making this a successful annual meeting.
URL:https://iowainstitute.coop/event/2019-iic-annual-meeting/
CATEGORIES:Education|Industry|Meeting
END:VEVENT
BEGIN:VEVENT
DTSTART;TZID=UTC:20190213T080000
DTEND;TZID=UTC:20190213T170000
DTSTAMP:20260422T001259
CREATED:20230426T080021Z
LAST-MODIFIED:20230426T080021Z
UID:4333-1550044800-1550077200@iowainstitute.coop
SUMMARY:IIC Board Presidents Conference
DESCRIPTION:Click here for agenda and registration information
URL:https://iowainstitute.coop/event/iic-board-presidents-conference/
CATEGORIES:Education|Industry|Meeting
END:VEVENT
BEGIN:VEVENT
DTSTART;VALUE=DATE:20181120
DTEND;VALUE=DATE:20181121
DTSTAMP:20260422T001259
CREATED:20230426T080021Z
LAST-MODIFIED:20230426T080021Z
UID:4331-1542672000-1542758399@iowainstitute.coop
SUMMARY:IIC 2018 Annual Meeting
DESCRIPTION:Please join us for our 68th Annual Meeting of the Iowa Institute for Cooperatives. Every year we gather to:\n• review and set our legislative policies for upcoming year\n• honor leaders in the cooperative industry\n• learn about issues impacting our industries\n• network with cooperative and industry leaders \nClick here for registration packet \nClick here for annual meeting agenda
URL:https://iowainstitute.coop/event/iic-2018-annual-meeting/
CATEGORIES:Education|Industry|Meeting
END:VEVENT
END:VCALENDAR